BEGIN:VCALENDAR
VERSION:2.0
PRODID:-//The Center For Deep Listening - ECPv6.1.1//NONSGML v1.0//EN
CALSCALE:GREGORIAN
METHOD:PUBLISH
X-WR-CALNAME:The Center For Deep Listening
X-ORIGINAL-URL:https://www.deeplistening.rpi.edu
X-WR-CALDESC:Events for The Center For Deep Listening
REFRESH-INTERVAL;VALUE=DURATION:PT1H
X-Robots-Tag:noindex
X-PUBLISHED-TTL:PT1H
BEGIN:VTIMEZONE
TZID:America/New_York
BEGIN:DAYLIGHT
TZOFFSETFROM:-0500
TZOFFSETTO:-0400
TZNAME:EDT
DTSTART:20260308T070000
END:DAYLIGHT
BEGIN:STANDARD
TZOFFSETFROM:-0400
TZOFFSETTO:-0500
TZNAME:EST
DTSTART:20261101T060000
END:STANDARD
TZID:Europe/Brussels
BEGIN:DAYLIGHT
TZOFFSETFROM:+0100
TZOFFSETTO:+0200
TZNAME:CEST
DTSTART:20260329T010000
END:DAYLIGHT
BEGIN:STANDARD
TZOFFSETFROM:+0200
TZOFFSETTO:+0100
TZNAME:CET
DTSTART:20261025T010000
END:STANDARD
TZID:Europe/Rome
BEGIN:DAYLIGHT
TZOFFSETFROM:+0100
TZOFFSETTO:+0200
TZNAME:CEST
DTSTART:20260329T010000
END:DAYLIGHT
BEGIN:STANDARD
TZOFFSETFROM:+0200
TZOFFSETTO:+0100
TZNAME:CET
DTSTART:20261025T010000
END:STANDARD
END:VTIMEZONE
BEGIN:VEVENT
DTSTART;TZID=America/New_York:20260517T110000
DTEND;TZID=America/New_York:20260517T130000
DTSTAMP:20260424T201412
CREATED:20260417T073833Z
LAST-MODIFIED:20260417T073833Z
UID:6253-1779015600-1779022800@www.deeplistening.rpi.edu
SUMMARY:Listening as Refuge: Deep Listening in Uncertain Times
DESCRIPTION:Sound Sangha has gathered weekly for five years — a container of music\, silence\, and presence that became home for many of us. This is its first live gathering in a new form\, and it continues the question we kept returning to in those sessions: what does deep listening mean when the world is genuinely difficult? \nNot as an escape from what’s hard. As a way of meeting it. Refuge isn’t hiding — it’s the ground you stand on. \n\n\n\n“The open ear is not passive. Listening is a practice of presence\, courage\, and refuge.” \n~Michael Reiley\n\n\n\n\n\n\n\nSession structure\n\n\n\n\n\n15 min\nOpening talk — Right Listening\, the Triple Jewel\, and listening as a posture of strength\n\n\n30 min\nAhlam & Michael conversation — a practitioner’s perspective on listening in a war zone (Lebanon)\n\n\n30 min\nOpen discussion\n\n\n30 min\nClosing sound bath — live\, for integration & meditation\n\n\n\nMICHAEL REILEY\nMusician · Composer · Deep Listening® facilitator\nMichael has been composing and performing for over 25 years\, working at the threshold of sound\, silence\, and the body — in hospice care\, breathwork ceremony\, maternity wards\, and contemplative practice. He is certified in the Deep Listening® lineage of Pauline Oliveros\, holds an MHTP certification\, and founded Sound Sangha in 2021. He is based in Tuscany. \nAHLAM DIRANI\nArtist · Activist · Deep Listener\nAhlam Dirani is an interdisciplinary performing artist and community arts practitioner whose work unfolds at the intersection of bodies\, memories\, and land. \nHer practice is grounded in embodiment\, collective memory\, feminist inquiry\, and deep listening\, while enjoying experimentation\, collaboration\, and practices of collective care. \nShe employs movement-based research\, oral history\, and ecofeminist thinking to create artistic processes where stories\, gestures\, and archives become shared sites of reflection and transformation. She is based in Lebanon. \n 
URL:https://www.deeplistening.rpi.edu/event/listening-as-refuge-deep-listening-in-uncertain-times/
LOCATION:Zoom\, Array\, Array\, Array\, Array
ATTACH;FMTTYPE=image/jpeg:https://www.deeplistening.rpi.edu/files/2026/04/lar-1.jpg
END:VEVENT
BEGIN:VEVENT
DTSTART;TZID=Europe/Brussels:20260607T150000
DTEND;TZID=Europe/Brussels:20260607T190000
DTSTAMP:20260424T201412
CREATED:20260424T155103Z
LAST-MODIFIED:20260424T155103Z
UID:6263-1780844400-1780858800@www.deeplistening.rpi.edu
SUMMARY:Deep Listening Workshop with Elena Camerin Young
DESCRIPTION:We’ll engage on meditation\, movement\, group exercises\, dreams and sounds\, \nThe goal is to assist musicians\, dancers\, artists from all disciplines and anyone wishing to deep their experience with Deep Listening. \nContact: admin@elenacamerinyoung.com \nwww.elenacamerinyoung.com
URL:https://www.deeplistening.rpi.edu/event/deep-listening-workshop-with-elena-camerin-young/
LOCATION:Espace Buen Vivir\, Pl. Fernand Cocq. 23\, Ixelles\, Bruxelles\, 1050\, Belgium
ATTACH;FMTTYPE=image/jpeg:https://www.deeplistening.rpi.edu/files/2026/04/1000078198.jpg
ORGANIZER;CN="Elena%20Camerin%20Young":MAILTO:ecyworkshop@gmail.com
END:VEVENT
BEGIN:VEVENT
DTSTART;TZID=America/New_York:20260613T090000
DTEND;TZID=America/New_York:20260617T090000
DTSTAMP:20260424T201412
CREATED:20260112T191045Z
LAST-MODIFIED:20260310T222700Z
UID:6182-1781341200-1781686800@www.deeplistening.rpi.edu
SUMMARY:2026 European Deep Listening Retreat June 13–17\, Vännersta\, Sweden
DESCRIPTION:Five-day Deep Listening® retreat led by co-founder Heloise Gold with senior facilitators Jennifer Wilsey\, Sharon Stewart\, Ximena Alarcón\, and host Björn Eriksson. Our gathering takes place at Kulturhuset Skolan in Vännersta\, a cultural centre surrounded by fields\, forests\, and lakes in the Höga Kusten (High Coast) region. The workshop is open to anyone wishing to explore listening and sounding inspired by the sounds of daily life\, one’s own thoughts\, imagination\, and dreams. No previous musical training is necessary. Together we will explore listening\, sounding\, dreaming and moving in the beautiful surroundings of the High Coast\, Sweden. \nRegistration is now closed. If you would like to be placed on a waiting list or receive updates on future Deep Listening Retreats or Immersions in Europe please contact Björn Eriksson miulew@gmail.com or Sharon Stewart stewart.bs@gmail.com
URL:https://www.deeplistening.rpi.edu/event/2026-european-deep-listening-retreat-june-13-17-vannersta-sweden/
LOCATION:Kulturhuset Skolan i Vännersta\, SE\, Vännersta 101\, Nordingrå\, 873 98\, Sweden
ATTACH;FMTTYPE=image/jpeg:https://www.deeplistening.rpi.edu/files/2026/01/Jon_Petter_DL_Immersion_Sweden_2025.jpg
ORGANIZER;CN="Bj%C3%B6rn%20Eriksson":MAILTO:miulew@gmail.com
END:VEVENT
BEGIN:VEVENT
DTSTART;TZID=Europe/Rome:20260622T100000
DTEND;TZID=Europe/Rome:20260622T140000
DTSTAMP:20260424T201412
CREATED:20260424T160150Z
LAST-MODIFIED:20260424T160150Z
UID:6267-1782122400-1782136800@www.deeplistening.rpi.edu
SUMMARY:Deep Listening Workshop
DESCRIPTION:Meditation\, movement\, improvisation and dreams. \nWe’ll explore the many ways we can engage in Deep Listening through practices and games. \nwww.elenacamerinyoung.com
URL:https://www.deeplistening.rpi.edu/event/deep-listening-workshop-3/
LOCATION:Associazione Culturale Les Cigales\, Via Don Minzoni\, 4\, Forlimpopoli\, FC\, Italy
ATTACH;FMTTYPE=image/jpeg:https://www.deeplistening.rpi.edu/files/2026/04/1000077787.jpg
ORGANIZER;CN="Elena%20Camerin%20Young":MAILTO:ecyworkshop@gmail.com
END:VEVENT
END:VCALENDAR