BEGIN:VCALENDAR
VERSION:2.0
PRODID:-//The Center For Deep Listening - ECPv6.1.1//NONSGML v1.0//EN
CALSCALE:GREGORIAN
METHOD:PUBLISH
X-ORIGINAL-URL:https://www.deeplistening.rpi.edu
X-WR-CALDESC:Events for The Center For Deep Listening
REFRESH-INTERVAL;VALUE=DURATION:PT1H
X-Robots-Tag:noindex
X-PUBLISHED-TTL:PT1H
BEGIN:VTIMEZONE
TZID:America/New_York
BEGIN:DAYLIGHT
TZOFFSETFROM:-0500
TZOFFSETTO:-0400
TZNAME:EDT
DTSTART:20250309T070000
END:DAYLIGHT
BEGIN:STANDARD
TZOFFSETFROM:-0400
TZOFFSETTO:-0500
TZNAME:EST
DTSTART:20251102T060000
END:STANDARD
END:VTIMEZONE
BEGIN:VEVENT
DTSTART;TZID=America/New_York:20251024T183000
DTEND;TZID=America/New_York:20251024T200000
DTSTAMP:20260424T111427
CREATED:20250930T012032Z
LAST-MODIFIED:20251001T184413Z
UID:6022-1761330600-1761336000@www.deeplistening.rpi.edu
SUMMARY:The Attuned Listening Experience Workshop with Jane Rigler
DESCRIPTION:90-minute interactive workshop introduction into the practice of Deep Listening for the residents of Nashville\, TN as part of the Intersections Ensemble season events
URL:https://www.deeplistening.rpi.edu/event/the-attuned-listening-experience-workshop-with-jane-rigler/
LOCATION:Trinity Presbyterian Church\, 3201 Hillsboro Pike\, Nashville\, TN\, 37215\, United States
END:VEVENT
END:VCALENDAR